Workbook
Name Category: DeptDropdown!$E$2:$E$17
Name Major: Majors!$A:$A
Name Program: 'Program List'!$A$2:$A$138
Name Term: DeptDropdown!$A$3:$A$5
Name Term1: DeptDropdown!$A$2:$A$5
Name Transfer: DeptDropdown!$C$3:$C$4

Sheet Degree Map Template
Q3: Degree Map Template
B6: Name (Last, First) | L6: Catalog year: | P6: 2025
B7: SSU Student ID # | L7: Transfer student? (Y/N)
B8: Major: | F8: Education | L8: Second major (if any):
B9: Concentration: | F9: Education, BS, Educational Studies - Teaching English to Speaker of Other Languages | L9: Minor (if any): | P9: English - (minor)
B10: Advisor's Name:
B12: SSU credits earned to date: | F12: =SUM(J28+T28+J39+T39+J50+T50+J61+T61) -> 0 | H12: Gen Ed credits:
B13: Transfer credits earned: | F13: 0 | H13: Major credits:
B14: Total required credts: | F14: 120 | H14: Minor credits:
B15: Remaining Credits Needed: | F15: =SUM(F14-(F12+F13)) -> 120
B19: Term: | D19: Fall | F19: Year: | G19: 2025 | L19: Term: | N19: Spring | P19: Year: | Q19: =G19+1 -> 2026
B20: SubCatNbr | D20: Course Name | H20: Class Credits | I20: Gen Ed Category | J20: Earned Credits | L20: SubCatNbr | N20: Course Name | R20: Class Credits | S20: Gen Ed Category | T20: Earned Credits
B21: =UPPER(B27) | D21: GENERAL EDUCATION | H21: 3 | I21: FYS | N21: GENERAL EDUCATION | R21: 3 | S21: PGR
B22: ENL110 OR ENL 109 | D22: GENERAL EDUCATION | H22: 3 | I22: W-I | N22: GENERAL EDUCATION | R22: 4 | S22: SR,SRL
B23: SPC215 | D23: GENERAL EDUCATION | H23: =_xlfn.IFNA(VLOOKUP(B23,CourseIndex!$C:$E,3,FALSE),"") -> 3 | I23: HP | N23: GENERAL EDUCATION | R23: 3 | S23: OC
B24: MAT103 | D24: =_xlfn.IFNA(VLOOKUP(B24,CourseIndex!$C:$D,2,FALSE),"") -> MATH FOR LIBERAL ARTS | H24: =_xlfn.IFNA(VLOOKUP(B24,CourseIndex!$C:$E,3,FALSE),"") -> 3 | I24: QR | L24: EDC115 | N24: EXPLORING EDUCATION | R24: =_xlfn.IFNA(VLOOKUP(L24,CourseIndex!$C:$E,3,FALSE),"") -> 3 | S24: MAJ
D25: GENERAL EDUCATION | H25: 3 | N25: WORLD LANGUAGE 102 | R25: 3
D26: =_xlfn.IFNA(VLOOKUP(B26,CourseIndex!$C:$D,2,FALSE),"") | H26: =_xlfn.IFNA(VLOOKUP(B26,CourseIndex!$C:$E,3,FALSE),"") | N26: =_xlfn.IFNA(VLOOKUP(L26,CourseIndex!$C:$D,2,FALSE),"") | R26: =_xlfn.IFNA(VLOOKUP(L26,CourseIndex!$C:$E,3,FALSE),"")
D27: =_xlfn.IFNA(VLOOKUP(B27,CourseIndex!$C:$D,2,FALSE),"") | H27: =_xlfn.IFNA(VLOOKUP(B27,CourseIndex!$C:$E,3,FALSE),"") | N27: =_xlfn.IFNA(VLOOKUP(L27,CourseIndex!$C:$D,2,FALSE),"") | R27: =_xlfn.IFNA(VLOOKUP(L27,CourseIndex!$C:$E,3,FALSE),"")
H28: Total for term: | J28: =SUM(J21:J27) -> 0 | R28: Total for term: | T28: =SUM(T21:T27) -> 0
B30: Term: | D30: Fall | F30: Year: | G30: =Q19 -> 2026 | L30: Term: | N30: Spring | P30: Year: | Q30: =G30+1 -> 2027
B31: SubCatNbr | D31: Course Name | H31: Class Credits | I31: Gen Ed Category | J31: Earned Credits | L31: SubCatNbr | N31: Course Name | R31: Class Credits | S31: Gen Ed Category | T31: Earned Credits
D32: GENERAL EDUCATION | H32: 3 | I32: WC | N32: GENERAL EDUCATION | R32: 3 | S32: CS
D33: GENERAL EDUCATION | H33: 3 | I33: CEA | N33: GENERAL EDUCATION | R33: 3 | S33: SR,SRL
B34: EDC205 | D34: =_xlfn.IFNA(VLOOKUP(B34,CourseIndex!$C:$D,2,FALSE),"") -> EDUCATIONAL PSYCHOLOGY | H34: =_xlfn.IFNA(VLOOKUP(B34,CourseIndex!$C:$E,3,FALSE),"") -> 3 | I34: MAJ | L34: ENL 309 | N34: TESOL | R34: 3 | S34: MAJ
D35: ENGLISH MINOR | H35: 3 | I35: MIN | N35: ENGLISH MINOR | R35: 3 | S35: MIN
D36: WORLD LANGUAGE 201 | H36: 3 | N36: WORLD LANGUAGE 202 | R36: 3
D37: =_xlfn.IFNA(VLOOKUP(B37,CourseIndex!$C:$D,2,FALSE),"") | H37: =_xlfn.IFNA(VLOOKUP(B37,CourseIndex!$C:$E,3,FALSE),"") | N37: =_xlfn.IFNA(VLOOKUP(L37,CourseIndex!$C:$D,2,FALSE),"") | R37: =_xlfn.IFNA(VLOOKUP(L37,CourseIndex!$C:$E,3,FALSE),"")
D38: =_xlfn.IFNA(VLOOKUP(B38,CourseIndex!$C:$D,2,FALSE),"") | H38: =_xlfn.IFNA(VLOOKUP(B38,CourseIndex!$C:$E,3,FALSE),"") | N38: =_xlfn.IFNA(VLOOKUP(L38,CourseIndex!$C:$D,2,FALSE),"") | R38: =_xlfn.IFNA(VLOOKUP(L38,CourseIndex!$C:$E,3,FALSE),"")
H39: Total for term: | J39: =SUM(J32:J38) -> 0 | R39: Total for term: | T39: =SUM(T32:T38) -> 0
B41: Term: | D41: Fall | F41: Year: | G41: =G30+1 -> 2027 | L41: Term: | N41: Spring | P41: Year: | Q41: =G41+1 -> 2028
B42: SubCatNbr | D42: Course Name | H42: Class Credits | I42: Gen Ed Category | J42: Earned Credits | L42: SubCatNbr | N42: Course Name | R42: Class Credits | S42: Gen Ed Category | T42: Earned Credits
B43: EEC308 | D43: =_xlfn.IFNA(VLOOKUP(B43,CourseIndex!$C:$D,2,FALSE),"") -> SUPPORT DLLS & FAM IN ECE | H43: =_xlfn.IFNA(VLOOKUP(B43,CourseIndex!$C:$E,3,FALSE),"") -> 3 | I43: W-II | L43: EDC405 | N43: =_xlfn.IFNA(VLOOKUP(L43,CourseIndex!$C:$D,2,FALSE),"") -> CULTURALLY RESPONSIVE TCHG | R43: =_xlfn.IFNA(VLOOKUP(L43,CourseIndex!$C:$E,3,FALSE),"") -> 3 | S43: DPDS
B44: ENL201 | D44: =_xlfn.IFNA(VLOOKUP(B44,CourseIndex!$C:$D,2,FALSE),"") -> INTRO TO LANGUAGE | H44: =_xlfn.IFNA(VLOOKUP(B44,CourseIndex!$C:$E,3,FALSE),"") -> 3 | I44: MAJ | L44: EDC361 | N44: =_xlfn.IFNA(VLOOKUP(L44,CourseIndex!$C:$D,2,FALSE),"") -> CULTURE AND CONTEXT TESOL | R44: =_xlfn.IFNA(VLOOKUP(L44,CourseIndex!$C:$E,3,FALSE),"") -> 3 | S44: MAJ
B45: SOC110 | D45: =_xlfn.IFNA(VLOOKUP(B45,CourseIndex!$C:$D,2,FALSE),"") -> INTRODUCTION TO SOCIOLOGY | H45: =_xlfn.IFNA(VLOOKUP(B45,CourseIndex!$C:$E,3,FALSE),"") -> 3 | I45: MAJ | L45: PSY251/252/218/322 | N45: PSYCHOLOGY SUPPORT COURSE | R45: 3 | S45: MAJ
D46: FOCUS COURSE | H46: 3 | I46: MAJ | L46: 300+LEVEL | N46: ENGLISH MINOR | R46: 3 | S46: MIN
D47: ENGLISH MINOR | H47: 3 | I47: MIN | N47: FREE ELECTIVE | R47: 3
D48: =_xlfn.IFNA(VLOOKUP(B48,CourseIndex!$C:$D,2,FALSE),"") | H48: =_xlfn.IFNA(VLOOKUP(B48,CourseIndex!$C:$E,3,FALSE),"") | N48: =_xlfn.IFNA(VLOOKUP(L48,CourseIndex!$C:$D,2,FALSE),"") | R48: =_xlfn.IFNA(VLOOKUP(L48,CourseIndex!$C:$E,3,FALSE),"")
D49: =_xlfn.IFNA(VLOOKUP(B49,CourseIndex!$C:$D,2,FALSE),"") | H49: =_xlfn.IFNA(VLOOKUP(B49,CourseIndex!$C:$E,3,FALSE),"") | N49: =_xlfn.IFNA(VLOOKUP(L49,CourseIndex!$C:$D,2,FALSE),"") | R49: =_xlfn.IFNA(VLOOKUP(L49,CourseIndex!$C:$E,3,FALSE),"")
H50: Total for term: | J50: =SUM(J43:J49) -> 0 | R50: Total for term: | T50: =SUM(T43:T49) -> 0
...

Sheet Program List
A1: Program Name
A2: Art, 3-Dimensional Studio Concentration, BA
A3: Art, Art History Concentration, BA
A4: Art, Graphic Design Concentration, BA
A5: Art, Painting Concentration, BA
A6: Art, Photography Concentration, BA
A7: Art, Printmaking Concentration, BA
A8: Biology, Aquaculture Concentration, BS
A9: Biology, BA
A10: Biology, Biomedical Sciences Concentration, BS
A11: Biology, Biotechnology, BS
A12: Biology, BS
... A138: World Languages and Cultures, Spanish Professional Concentration, BA

Sheet Majors
A1: Major
A2: Art
A3: Biology
A4: Business Administration
A5: Cartography and Geographic Information Systems
A6: Chemistry
A7: Commonwealth Honors Program
A8: Computer Science
A9: Criminal Justice
A10: Dance
A11: Economics
A12: Education
... A35: World Languages and Cultures
B56: and Latin America Concentration | C56: BA
B57: BA
B58: BA
B70: BS
B96: & Event Management BS
B115: English Literature
B132: Licensure Pathway for Elementary & Early Childhood

Sheet DeptDropdown
G1: Dept | I1: Dept | J1: Descr
I2: Art | J2: 3-D Studio
A3: Fall | C3: Yes | E3: CEA | G3: Art | I3: Art | J3: Art Ed - Teacher Lic 5-12
A4: Spring | C4: No | E4: CS | G4: Bachelor of Science Education | I4: Art | J4: Art Ed - Teacher Lic Pre K-8
A5: Summer | E5: DPDS | G5: Biology-BS | I5: Art | J5: Art Education Conc
E6: FYS | G6: BS-Cert Media & Communication | I6: Art | J6: Art Education Licensure 5-12
E7: HP | G7: Business Administration | I7: Art | J7: Art Education Licensure K-8
E8: OC | G8: Chemistry-BS | I8: Art | J8: Art Education Non-licens 5-12
E9: PGR | G9: Computer Science | I9: Art | J9: Art Education Non-licens K-8
E10: QR | G10: Criminal Justice | I10: Art | J10: Art Education Pre-licens 5-12
E11: SR,SRL | G11: Criminal Justice BS-MS | I11: Art | J11: Art Education Pre-licens K-8
E12: WC | G12: Dance | I12: Art | J12: Art History
E13: W-I | G13: Education | I13: Art | J13: Art Teacher Pathway
E14: W-II | G14: English | I14: Art | J14: Graphic Design
E15: W-III | G15: English Combined BA-MA | I15: Art | J15: Interactive Multimedia
E16: MAJ | G16: Geography | I16: Art | J16: Painting
E17: MIN | G17: Geography-BA | I17: Art | J17: Photography
G18: Geological Sciences | I18: Art | J18: Printmaking
G19: History | I19: Art | J19: Second Major ECE and EL Edu
A20: Acad Plan | B20: Descr | C20: Plan Type | G20: Interdisciplinary Studies | I20: Art | J20: Studio Art
G21: Mathematics-BS | I21: Art | J21: Web Design
A22: 2DIM-MN | B22: 2 Dimensional - (minor) | C22: MIN | G22: Media & Communication | I22: Bachelor of Science Education | J22: Early Childhood Ed Licensure
A23: 3DIM-MN | B23: 3 Dimensional - (minor) | C23: MIN | G23: Nursing | I23: Bachelor of Science Education | J23: Early Childhood Ed Non-Licence
A24: ACCOUNT-MN | B24: Accounting Minor | C24: MIN | G24: Nursing (w/ options) | I24: Bachelor of Science Education | J24: Early Childhood Ed Pre-Licence
A25: AFRAMER-MN | B25: African-Amercn Studies (minor) | C25: MIN | G25: Political Science-BA | I25: Bachelor of Science Education | J25: Early Childhood Ed Prelicense
A26: AMSTUDY-MN | B26: American Studies | C26: MIN | G26: Political Science-BS | I26: Bachelor of Science Education | J26: Early Childhood Educ Licensure
A27: AQUA-MN | B27: Aquatic Management (minor) | C27: MIN | G27: Psychology-BS | I27: Bachelor of Science Education | J27: Early Childhood Education
A28: ARABIC-MN | B28: Arabic Studies | C28: MIN | G28: Social Work | I28: Bachelor of Science Education | J28: Early Childhood Nonlicensure
A29: ARTHIST-MN | B29: Art History (minor) | C29: MIN | G29: Sociology-BA | I29: Bachelor of Science Education | J29: Elementary Education
A30: ASIANST-MN | B30: Asian Studies (minor) | C30: MIN | G30: Sociology-BS | I30: Bachelor of Science Education | J30: Elementary Education Licensure
A31: BIOLOGY-MN | B31: Biology (minor) | C31: MIN | G31: Spanish | I31: Bachelor of Science Education | J31: Elementary Education Nonlic
A32: BUSADM-MN | B32: Business Admin (minor) | C32: MIN | G32: Sport & Movement Science | I32: Bachelor of Science Education | J32: Elementary Education Nonlicen
A33: CHEM-MN | B33: Chemistry (minor) | C33: MIN | G33: Theatre Arts-BA | I33: Bachelor of Science Education | J33: Elementary Education Prelicen
... A36: COMM-MN | B36: Communications (Minor) | C36: MIN | G36: World Languages and Cultures | I36: Bachelor of Science Education | J36: Junior High School - Social St
A37: CPTSTU-MN | B37: Computer Science (minor) | C37: MIN | I37: Bachelor of Science Education | J37: Licensure Track
A38: CRIMJUS-MN | B38: Criminal Justice (minor) | C38: MIN | I38: Bachelor of Science Education | J38: Middle School Education
A39: CRTGRPH-MN | B39: Cartography (minor) | C39: MIN | I39: Bachelor of Science Education | J39: Middle School Licensure
A40: DANCE-MN | B40: Dance (minor) | C40: MIN | I40: Bachelor of Science Education | J40: Middle School Nonlicensure
A41: DRAMLIT-MN | B41: Dramatic Literature (minor) | C41: MIN | I41: Bachelor of Science Education | J41: Middle School Prelicensure
A42: ECON-MN | B42: Economics (minor) | C42: MIN | I42: Biology-BS | J42: Aquaculture
...

Sheet Program List (2)
A1: Column1
A2: Program Name
A3: Art, 3-Dimensional Studio Concentration, BA
A4: Art, Art History Concentration, BA
A5: Art, Graphic Design Concentration, BA
A6: Art, Painting Concentration, BA
A7: Art, Photography Concentration, BA
A8: Art, Printmaking Concentration, BA
A9: Biology, Aquaculture Concentration, BS
A10: Biology, BA
A11: Biology, Biomedical Sciences Concentration, BS
A12: Biology, BS
... A139: Healthcare Studies and Spanish, BS

Sheet CourseIndex
A1: Course ID | B1: Acad Org | C1: CourseCode | D1: Descr | E1: Max Units
A2: 102938 | B2: ACCNTFINAN | C2: ACC106 | D2: FINANCIAL ACCOUNTING | E2: 3
A3: 102940 | B3: ACCNTFINAN | C3: ACC202 | D3: MANAGERIAL ACCOUNTING | E3: 3
A4: 102943 | B4: ACCNTFINAN | C4: ACC300 | D4: INTERMEDIATE ACCOUNTING I | E4: 3
A5: 102944 | B5: ACCNTFINAN | C5: ACC301 | D5: INTERMEDIATE ACCOUNTING II | E5: 3
A6: 102946 | B6: ACCNTFINAN | C6: ACC305 | D6: FEDERAL TAXATION | E6: 3
A7: 102947 | B7: ACCNTFINAN | C7: ACC306 | D7: COST ACCOUNTING | E7: 3
A8: 122920 | B8: ACCNTFINAN | C8: ACC350 | D8: FORENSIC ACCOUNTING | E8: 3
A9: 102948 | B9: ACCNTFINAN | C9: ACC364 | D9: ACCT INFORMATION SYSTEMS | E9: 3
A10: 102948 | B10: ACCNTFINAN | C10: ACC364 | D10: ACCTG INFORMATION SYSTEMS | E10: 3
A11: 102949 | B11: ACCNTFINAN | C11: ACC400 | D11: ADVANCED ACCOUNTING | E11: 3
A12: 102953 | B12: ACCNTFINAN | C12: ACC405 | D12: ADVANCED FEDERAL TAXATION | E12: 3
A13: 102950 | B13: ACCNTFINAN | C13: ACC407 | D13: AUDITING THEORY & PRACTICE | E13: 3
... A2251: 123579 | B2251: THEATRSPCH | C2251: THE98 | D2251: THEATRE PARTICIPATION VIII | E2251: 0.5

Sheet Minors
A2: Accounting Minor
A3: Advertising Minor (15 Credits)
A4: African-American Studies Minor
A5: Analytics and Management Science Minor
A6: Aquatic Management Minor
A7: Arabic Studies Minor
A8: Art + Design Minor (User Experience and Interface Design)
A9: Art 2-Dimensional Minor
A10: Art 3-Dimensional Minor
A11: Art History Minor
A12: Art, Teacher Education Minor, Combined B.A.& M. Ed.
A13: Asian Studies Minor
... A95: Writing Minor
